BEGIN:VCALENDAR
VERSION:2.0
PRODID:-//Eventin//Event Calendar//EN
CALSCALE:GREGORIAN
METHOD:PUBLISH
BEGIN:VEVENT
UID:97094ad742c431079f154c1df2c295a0@vorlage.bi.glpch2.dev
SUMMARY:Mitgliederversammlung
DESCRIPTION:
LOCATION:Gemeindehaus
DTSTAMP:20260421T082607Z
DTSTART:20280614T160000Z
DTEND:20280614T180000Z
END:VEVENT
END:VCALENDAR
